BEGIN:VCALENDAR
VERSION:2.0
PRODID:-//FGASA - ECPv6.10.0//NONSGML v1.0//EN
CALSCALE:GREGORIAN
METHOD:PUBLISH
X-WR-CALNAME:FGASA
X-ORIGINAL-URL:https://www.fgasa.co.za
X-WR-CALDESC:Events for FGASA
REFRESH-INTERVAL;VALUE=DURATION:PT1H
X-Robots-Tag:noindex
X-PUBLISHED-TTL:PT1H
BEGIN:VTIMEZONE
TZID:Africa/Johannesburg
BEGIN:STANDARD
TZOFFSETFROM:+0200
TZOFFSETTO:+0200
TZNAME:SAST
DTSTART:20260101T000000
END:STANDARD
END:VTIMEZONE
BEGIN:VEVENT
DTSTART;TZID=Africa/Johannesburg:20260204T100000
DTEND;TZID=Africa/Johannesburg:20260204T130000
DTSTAMP:20260426T045625
CREATED:20260126T083244Z
LAST-MODIFIED:20260126T083308Z
UID:7184-1770199200-1770210000@www.fgasa.co.za
SUMMARY:Scorpion Sting First Aid Response - Phalaborwa Heritage Fondation
DESCRIPTION:Scorpion expert Johnathan Leeming will be visiting and touring the Lowveld this February\, delivering various talks and courses. \nThe Phalaborwa Hertiage Foundation will host Johnathan on 4 February 2026 from 10am – 1pm. \nPlease see booking information here: https://scorpions.co.za/lowveld-roadshow/
URL:https://www.fgasa.co.za/event/scorpion-sting-first-aid-response-phalaborwa-heritage-fondation
END:VEVENT
BEGIN:VEVENT
DTSTART;TZID=Africa/Johannesburg:20260205T080000
DTEND;TZID=Africa/Johannesburg:20260205T170000
DTSTAMP:20260426T045625
CREATED:20260126T083535Z
LAST-MODIFIED:20260126T084015Z
UID:7186-1770278400-1770310800@www.fgasa.co.za
SUMMARY:Scorpion Sting First Aid Response Course - Royal Malewane Conservation and Research Centre
DESCRIPTION:Scorpion expert Johnathan Leeming will be visiting and touring the Lowveld this February\, delivering various talks and courses. \nThe Royal Malewane Conservation and Research Centre will host Johnathan on 5 February 2026 from 10am – 1pm. \nPlease see booking information here: https://scorpions.co.za/lowveld-roadshow/
URL:https://www.fgasa.co.za/event/scorpion-sting-first-aid-response-course-royal-malewane-conservation-and-research-centre
END:VEVENT
BEGIN:VEVENT
DTSTART;TZID=Africa/Johannesburg:20260207T080000
DTEND;TZID=Africa/Johannesburg:20260207T170000
DTSTAMP:20260426T045625
CREATED:20260126T082531Z
LAST-MODIFIED:20260126T092939Z
UID:7181-1770451200-1770483600@www.fgasa.co.za
SUMMARY:Scorpion Sting First Aid Response Course - Baluleni Safari Lodge\, Grietjie
DESCRIPTION:Scorpion expert Johnathan Leeming will be visiting and touring the Lowveld this February\, delivering various talks and courses. \nBaluleni Safari Lodge on Grietjie\, Balule Nature Reserve will host Johnathan on 7 February 2026 from 10am – 1pm. \nFor more information and bookings: https://scorpions.co.za/lowveld-roadshow/ \n 
URL:https://www.fgasa.co.za/event/scorpion-sting-first-aid-response-course-baluleni-safari-lodge-grietjie
END:VEVENT
BEGIN:VEVENT
DTSTART;TZID=Africa/Johannesburg:20260208T100000
DTEND;TZID=Africa/Johannesburg:20260208T130000
DTSTAMP:20260426T045625
CREATED:20260126T082023Z
LAST-MODIFIED:20260126T082117Z
UID:7179-1770544800-1770555600@www.fgasa.co.za
SUMMARY:Scorpion Sting First Aid Response Course - Hoedspruit Reptile Centre
DESCRIPTION:Scorpion expert Johnathan Leeming will be visiting and touring the Lowveld this February\, delivering various talks and courses. \nThe Hoedspruit Reptile Centre will host Johnathan on 8 February 2026 from 10am – 1pm. \nPlease see booking information here: https://scorpions.co.za/hoedspruit-reptile-centre/
URL:https://www.fgasa.co.za/event/scorpion-sting-first-aid-response-course-hoedspruit-reptile-centre
END:VEVENT
BEGIN:VEVENT
DTSTART;TZID=Africa/Johannesburg:20260224T190000
DTEND;TZID=Africa/Johannesburg:20260224T220000
DTSTAMP:20260426T045625
CREATED:20260206T083037Z
LAST-MODIFIED:20260206T083037Z
UID:7223-1771959600-1771970400@www.fgasa.co.za
SUMMARY:FGASA Online Exam Workshop for NQF2
DESCRIPTION:Join us for an online NQF2 exam workshop on 24 February at 7pm for anyone getting ready to write their exams this month. 📚\n\n\n \n\n\nThe workshop is lead by FGASA Assessor and Mentor\, Laetitia Cronje\, principal trainer at @Campfire Academy 🔥 Laetitia has years of experience and is one of the best teachers around! There is no better way to prepare for your NQF2 exam.\n\n\n \n\n\nHit the link below to join the workshop 👇\n\n\nhttps://msteams.link/3HQK\n\n\n \n\n\nBe sure to come prepared with relevant questions. We’ll see you there!\n\n\n \n\n\nWishing all of you the best of luck for your studies and exams this month 🍀
URL:https://www.fgasa.co.za/event/fgasa-online-exam-workshop-for-nqf2
LOCATION:Online
END:VEVENT
END:VCALENDAR