BEGIN:VCALENDAR
VERSION:2.0
PRODID:-//FGASA - ECPv6.10.0//NONSGML v1.0//EN
CALSCALE:GREGORIAN
METHOD:PUBLISH
X-WR-CALNAME:FGASA
X-ORIGINAL-URL:https://www.fgasa.co.za
X-WR-CALDESC:Events for FGASA
REFRESH-INTERVAL;VALUE=DURATION:PT1H
X-Robots-Tag:noindex
X-PUBLISHED-TTL:PT1H
BEGIN:VTIMEZONE
TZID:Africa/Johannesburg
BEGIN:STANDARD
TZOFFSETFROM:+0200
TZOFFSETTO:+0200
TZNAME:SAST
DTSTART:20230101T000000
END:STANDARD
END:VTIMEZONE
BEGIN:VEVENT
DTSTART;TZID=Africa/Johannesburg:20230512T100000
DTEND;TZID=Africa/Johannesburg:20230512T120000
DTSTAMP:20260419T144606
CREATED:20230109T133540Z
LAST-MODIFIED:20230109T133540Z
UID:2534-1683885600-1683892800@www.fgasa.co.za
SUMMARY:FGASA Online Exam
DESCRIPTION:Online Exam \n\nApprentice Field Guide (NQF2)\nMarine Guide (NQF2)\nTrails Guide\nNature Enthusiast\n\nPlease log onto your FGASA profile in order to register and make payment \nExam bookings for the online exam close 1 week in advance
URL:https://www.fgasa.co.za/event/fgasa-online-exam-4
END:VEVENT
END:VCALENDAR