BEGIN:VCALENDAR
VERSION:2.0
PRODID:-//FGASA - ECPv6.10.0//NONSGML v1.0//EN
CALSCALE:GREGORIAN
METHOD:PUBLISH
X-WR-CALNAME:FGASA
X-ORIGINAL-URL:https://www.fgasa.co.za
X-WR-CALDESC:Events for FGASA
REFRESH-INTERVAL;VALUE=DURATION:PT1H
X-Robots-Tag:noindex
X-PUBLISHED-TTL:PT1H
BEGIN:VTIMEZONE
TZID:Africa/Johannesburg
BEGIN:STANDARD
TZOFFSETFROM:+0200
TZOFFSETTO:+0200
TZNAME:SAST
DTSTART:20230101T000000
END:STANDARD
END:VTIMEZONE
BEGIN:VEVENT
DTSTART;VALUE=DATE:20230303
DTEND;VALUE=DATE:20230304
DTSTAMP:20260419T155927
CREATED:20230203T153747Z
LAST-MODIFIED:20230203T153747Z
UID:2781-1677801600-1677887999@www.fgasa.co.za
SUMMARY:Trails Guide and ARH Protocols workshop
DESCRIPTION:If you are wanting to become a Trails Guide mentor\, and have all the requirements and submitted all paperwork and are now needing to attend the workshop\, please contact qualifications@fgasa.org.za in order to book your place. \nYou cannot attend without pre-booking.
URL:https://www.fgasa.co.za/event/trails-guide-and-arh-protocols-workshop
LOCATION:moholoholo ye mati
END:VEVENT
END:VCALENDAR