BEGIN:VCALENDAR
VERSION:2.0
PRODID:-//FGASA - ECPv6.10.0//NONSGML v1.0//EN
CALSCALE:GREGORIAN
METHOD:PUBLISH
X-ORIGINAL-URL:https://www.fgasa.co.za
X-WR-CALDESC:Events for FGASA
REFRESH-INTERVAL;VALUE=DURATION:PT1H
X-Robots-Tag:noindex
X-PUBLISHED-TTL:PT1H
BEGIN:VTIMEZONE
TZID:Africa/Johannesburg
BEGIN:STANDARD
TZOFFSETFROM:+0200
TZOFFSETTO:+0200
TZNAME:SAST
DTSTART:20230101T000000
END:STANDARD
END:VTIMEZONE
BEGIN:VEVENT
DTSTART;TZID=Africa/Johannesburg:20230216T190000
DTEND;TZID=Africa/Johannesburg:20230216T210000
DTSTAMP:20260420T043737
CREATED:20230203T154407Z
LAST-MODIFIED:20230203T154407Z
UID:2786-1676574000-1676581200@www.fgasa.co.za
SUMMARY:FGASA Field Guide (NQF4) online workshop
DESCRIPTION:A Zoom session workshop to help FGASA Field Guide (NQF4) learners with any queries they may have\, and to briefly cover the course material prior to the exam. \ncontact admin@fgasa.org.za should you wish to join
URL:https://www.fgasa.co.za/event/fgasa-field-guide-nqf4-online-workshop-2
LOCATION:Online
END:VEVENT
END:VCALENDAR