BEGIN:VCALENDAR
VERSION:2.0
PRODID:-//FGASA - ECPv6.10.0//NONSGML v1.0//EN
CALSCALE:GREGORIAN
METHOD:PUBLISH
X-ORIGINAL-URL:https://www.fgasa.co.za
X-WR-CALDESC:Events for FGASA
REFRESH-INTERVAL;VALUE=DURATION:PT1H
X-Robots-Tag:noindex
X-PUBLISHED-TTL:PT1H
BEGIN:VTIMEZONE
TZID:Africa/Johannesburg
BEGIN:STANDARD
TZOFFSETFROM:+0200
TZOFFSETTO:+0200
TZNAME:SAST
DTSTART:20230101T000000
END:STANDARD
END:VTIMEZONE
BEGIN:VEVENT
DTSTART;TZID=Africa/Johannesburg:20230215T190000
DTEND;TZID=Africa/Johannesburg:20230215T203000
DTSTAMP:20260420T043729
CREATED:20230203T154258Z
LAST-MODIFIED:20230203T154258Z
UID:2784-1676487600-1676493000@www.fgasa.co.za
SUMMARY:Apprentice Field Guide (NQF2) online workshop
DESCRIPTION:A Zoom session workshop to help Apprentice Field Guide (NQF2) learners with any queries they may have\, and to briefly cover the course material prior to the exam. \ncontact admin@fgasa.org.za should you wish to join
URL:https://www.fgasa.co.za/event/apprentice-field-guide-nqf2-online-workshop-2
LOCATION:Online
END:VEVENT
END:VCALENDAR