BEGIN:VCALENDAR
VERSION:2.0
PRODID:-//FGASA - ECPv6.10.0//NONSGML v1.0//EN
CALSCALE:GREGORIAN
METHOD:PUBLISH
X-ORIGINAL-URL:https://www.fgasa.co.za
X-WR-CALDESC:Events for FGASA
REFRESH-INTERVAL;VALUE=DURATION:PT1H
X-Robots-Tag:noindex
X-PUBLISHED-TTL:PT1H
BEGIN:VTIMEZONE
TZID:Africa/Johannesburg
BEGIN:STANDARD
TZOFFSETFROM:+0200
TZOFFSETTO:+0200
TZNAME:SAST
DTSTART:20230101T000000
END:STANDARD
END:VTIMEZONE
BEGIN:VEVENT
DTSTART;TZID=Africa/Johannesburg:20230131T100000
DTEND;TZID=Africa/Johannesburg:20230131T163000
DTSTAMP:20260420T043804
CREATED:20230119T093917Z
LAST-MODIFIED:20230119T093917Z
UID:2648-1675159200-1675182600@www.fgasa.co.za
SUMMARY:FGASA Online Training Provider workshop
DESCRIPTION:Online workshop for a catch-up with all FGASA Training Providers. \nMain workshop dates to be confirmed later in the year.
URL:https://www.fgasa.co.za/event/fgasa-online-training-provider-workshop
END:VEVENT
END:VCALENDAR