BEGIN:VCALENDAR
VERSION:2.0
PRODID:-//FGASA - ECPv6.10.0//NONSGML v1.0//EN
CALSCALE:GREGORIAN
METHOD:PUBLISH
X-WR-CALNAME:FGASA
X-ORIGINAL-URL:https://www.fgasa.co.za
X-WR-CALDESC:Events for FGASA
REFRESH-INTERVAL;VALUE=DURATION:PT1H
X-Robots-Tag:noindex
X-PUBLISHED-TTL:PT1H
BEGIN:VTIMEZONE
TZID:UTC
BEGIN:STANDARD
TZOFFSETFROM:+0000
TZOFFSETTO:+0000
TZNAME:UTC
DTSTART:20230101T000000
END:STANDARD
END:VTIMEZONE
BEGIN:VEVENT
DTSTART;TZID=UTC:20230130T100000
DTEND;TZID=UTC:20230130T143000
DTSTAMP:20260420T213902
CREATED:20221011T134102Z
LAST-MODIFIED:20230119T094034Z
UID:2428-1675072800-1675089000@www.fgasa.co.za
SUMMARY:FGASA Online Assessor workshop
DESCRIPTION:Online workshop for a catch-up with all FGASA assessors. \nMain workshop dates to be confirmed later in the year.
URL:https://www.fgasa.co.za/event/fgasa-assessor-and-training-provider-workshop
END:VEVENT
END:VCALENDAR