BEGIN:VCALENDAR
VERSION:2.0
PRODID:-//FGASA - ECPv6.10.0//NONSGML v1.0//EN
CALSCALE:GREGORIAN
METHOD:PUBLISH
X-ORIGINAL-URL:https://www.fgasa.co.za
X-WR-CALDESC:Events for FGASA
REFRESH-INTERVAL;VALUE=DURATION:PT1H
X-Robots-Tag:noindex
X-PUBLISHED-TTL:PT1H
BEGIN:VTIMEZONE
TZID:UTC
BEGIN:STANDARD
TZOFFSETFROM:+0000
TZOFFSETTO:+0000
TZNAME:UTC
DTSTART:20220101T000000
END:STANDARD
END:VTIMEZONE
BEGIN:VEVENT
DTSTART;TZID=UTC:20221029T100000
DTEND;TZID=UTC:20221029T123000
DTSTAMP:20260421T055123
CREATED:20220915T141734Z
LAST-MODIFIED:20220915T141734Z
UID:2402-1667037600-1667046600@www.fgasa.co.za
SUMMARY:FGASA National Exam Sitting
DESCRIPTION:All venue based exams for FGASA \nBookings close one month in advance (no late bookings will be accepted) \nLog onto your FGASA profile in order to book an exam and make payment \nAll venue addresses are listed on the FGASA website \nCAPE TOWN & JOHANNESBURG Exams begin at 09h00
URL:https://www.fgasa.co.za/event/fgasa-national-exam-sitting-2
END:VEVENT
END:VCALENDAR