BEGIN:VCALENDAR
VERSION:2.0
PRODID:-//FGASA - ECPv6.10.0//NONSGML v1.0//EN
CALSCALE:GREGORIAN
METHOD:PUBLISH
X-WR-CALNAME:FGASA
X-ORIGINAL-URL:https://www.fgasa.co.za
X-WR-CALDESC:Events for FGASA
REFRESH-INTERVAL;VALUE=DURATION:PT1H
X-Robots-Tag:noindex
X-PUBLISHED-TTL:PT1H
BEGIN:VTIMEZONE
TZID:UTC
BEGIN:STANDARD
TZOFFSETFROM:+0000
TZOFFSETTO:+0000
TZNAME:UTC
DTSTART:20220101T000000
END:STANDARD
END:VTIMEZONE
BEGIN:VEVENT
DTSTART;TZID=UTC:20221017T190000
DTEND;TZID=UTC:20221017T210000
DTSTAMP:20260421T004451
CREATED:20221011T134636Z
LAST-MODIFIED:20221011T134636Z
UID:2430-1666033200-1666040400@www.fgasa.co.za
SUMMARY:Apprentice Field Guide (NQF2) online workshop
DESCRIPTION:A Zoom session workshop to help Apprentice Field Guide (NQF2) learners with any queries they may have\, and to briefly cover the course material prior to the exam. \ncontact admin@fgasa.org.za should you wish to join
URL:https://www.fgasa.co.za/event/apprentice-field-guide-nqf2-online-workshop
END:VEVENT
END:VCALENDAR