BEGIN:VCALENDAR
VERSION:2.0
PRODID:-//FGASA - ECPv6.10.0//NONSGML v1.0//EN
CALSCALE:GREGORIAN
METHOD:PUBLISH
X-ORIGINAL-URL:https://www.fgasa.co.za
X-WR-CALDESC:Events for FGASA
REFRESH-INTERVAL;VALUE=DURATION:PT1H
X-Robots-Tag:noindex
X-PUBLISHED-TTL:PT1H
BEGIN:VTIMEZONE
TZID:UTC
BEGIN:STANDARD
TZOFFSETFROM:+0000
TZOFFSETTO:+0000
TZNAME:UTC
DTSTART:20220101T000000
END:STANDARD
END:VTIMEZONE
BEGIN:VEVENT
DTSTART;TZID=UTC:20220730T100000
DTEND;TZID=UTC:20220730T120000
DTSTAMP:20260421T233307
CREATED:20220405T064842Z
LAST-MODIFIED:20220713T072718Z
UID:2169-1659175200-1659182400@www.fgasa.co.za
SUMMARY:FGASA National Exam Sitting
DESCRIPTION:All venue based exams for FGASA \nBookings close one month in advance (no late bookings will be accepted) \nLog onto your FGASA profile in order to book an exam and make payment \nAll venues are listed on the FGASA website \nCAPE TOWN & JOHANNESBURG Exams begin at 09h00
URL:https://www.fgasa.co.za/event/fgasa-national-exam-sitting
END:VEVENT
END:VCALENDAR