BEGIN:VCALENDAR
VERSION:2.0
PRODID:-//FGASA - ECPv6.10.0//NONSGML v1.0//EN
CALSCALE:GREGORIAN
METHOD:PUBLISH
X-ORIGINAL-URL:https://www.fgasa.co.za
X-WR-CALDESC:Events for FGASA
REFRESH-INTERVAL;VALUE=DURATION:PT1H
X-Robots-Tag:noindex
X-PUBLISHED-TTL:PT1H
BEGIN:VTIMEZONE
TZID:UTC
BEGIN:STANDARD
TZOFFSETFROM:+0000
TZOFFSETTO:+0000
TZNAME:UTC
DTSTART:20220101T000000
END:STANDARD
END:VTIMEZONE
BEGIN:VEVENT
DTSTART;TZID=UTC:20220721T110000
DTEND;TZID=UTC:20220721T130000
DTSTAMP:20260421T200918
CREATED:20220618T122640Z
LAST-MODIFIED:20220618T123111Z
UID:2256-1658401200-1658408400@www.fgasa.co.za
SUMMARY:Annual General Meeting
DESCRIPTION:FGASA AGM Virtual Meeting zoom link \n 
URL:https://www.fgasa.co.za/event/annual-general-meeting
END:VEVENT
END:VCALENDAR