BEGIN:VCALENDAR
VERSION:2.0
PRODID:-//FGASA - ECPv6.10.0//NONSGML v1.0//EN
CALSCALE:GREGORIAN
METHOD:PUBLISH
X-WR-CALNAME:FGASA
X-ORIGINAL-URL:https://www.fgasa.co.za
X-WR-CALDESC:Events for FGASA
REFRESH-INTERVAL;VALUE=DURATION:PT1H
X-Robots-Tag:noindex
X-PUBLISHED-TTL:PT1H
BEGIN:VTIMEZONE
TZID:UTC
BEGIN:STANDARD
TZOFFSETFROM:+0000
TZOFFSETTO:+0000
TZNAME:UTC
DTSTART:20220101T000000
END:STANDARD
END:VTIMEZONE
BEGIN:VEVENT
DTSTART;TZID=UTC:20220717T120000
DTEND;TZID=UTC:20220717T140000
DTSTAMP:20260422T034508
CREATED:20220713T072315Z
LAST-MODIFIED:20220713T072315Z
UID:2336-1658059200-1658066400@www.fgasa.co.za
SUMMARY:NQF4 exam workshop - online
DESCRIPTION:A Zoom session workshop to help Field Guide (NQF4) learners with any queries they may have\, and to briefly cover the course material prior to the exam.
URL:https://www.fgasa.co.za/event/nqf4-exam-workshop-online
END:VEVENT
END:VCALENDAR