BEGIN:VCALENDAR
VERSION:2.0
PRODID:-//FGASA - ECPv6.10.0//NONSGML v1.0//EN
CALSCALE:GREGORIAN
METHOD:PUBLISH
X-WR-CALNAME:FGASA
X-ORIGINAL-URL:https://www.fgasa.co.za
X-WR-CALDESC:Events for FGASA
REFRESH-INTERVAL;VALUE=DURATION:PT1H
X-Robots-Tag:noindex
X-PUBLISHED-TTL:PT1H
BEGIN:VTIMEZONE
TZID:UTC
BEGIN:STANDARD
TZOFFSETFROM:+0000
TZOFFSETTO:+0000
TZNAME:UTC
DTSTART:20220101T000000
END:STANDARD
END:VTIMEZONE
BEGIN:VEVENT
DTSTART;VALUE=DATE:20220627
DTEND;VALUE=DATE:20220704
DTSTAMP:20260422T033613
CREATED:20220405T072933Z
LAST-MODIFIED:20220405T072933Z
UID:2173-1656288000-1656892799@www.fgasa.co.za
SUMMARY:Safari Guide of the Year 2022
DESCRIPTION:For 11 years\, FGASA along with Africa Direct\, has been hosting the Safari Guide of the Year\, giving recognition to the Best of the Best in the safari guiding industry in South Africa. \nWho will be the winner of Safari Guide of the year\, 2022?
URL:https://www.fgasa.co.za/event/safari-guide-of-the-year-2022
END:VEVENT
END:VCALENDAR