BEGIN:VCALENDAR
VERSION:2.0
PRODID:-//FGASA - ECPv6.10.0//NONSGML v1.0//EN
CALSCALE:GREGORIAN
METHOD:PUBLISH
X-ORIGINAL-URL:https://www.fgasa.co.za
X-WR-CALDESC:Events for FGASA
REFRESH-INTERVAL;VALUE=DURATION:PT1H
X-Robots-Tag:noindex
X-PUBLISHED-TTL:PT1H
BEGIN:VTIMEZONE
TZID:UTC
BEGIN:STANDARD
TZOFFSETFROM:+0000
TZOFFSETTO:+0000
TZNAME:UTC
DTSTART:20220101T000000
END:STANDARD
END:VTIMEZONE
BEGIN:VEVENT
DTSTART;TZID=UTC:20220601T173000
DTEND;TZID=UTC:20220601T193000
DTSTAMP:20260422T185016
CREATED:20220517T101815Z
LAST-MODIFIED:20220517T101947Z
UID:2226-1654104600-1654111800@www.fgasa.co.za
SUMMARY:On a Roll with Dung Beetles
DESCRIPTION:Get rolling by joining dung beetle specialist Vaughan Jessnitz\, as he digs deep into the fascinating world of dung beetles\, one of the most underrated group of insects in the world. \nIt promises to be an interesting evening.
URL:https://www.fgasa.co.za/event/on-a-roll-with-dung-beetles
LOCATION:FGASA Offices\, R527\, Hoedspruit
END:VEVENT
END:VCALENDAR