BEGIN:VCALENDAR
VERSION:2.0
PRODID:-//FGASA - ECPv6.10.0//NONSGML v1.0//EN
CALSCALE:GREGORIAN
METHOD:PUBLISH
X-ORIGINAL-URL:https://www.fgasa.co.za
X-WR-CALDESC:Events for FGASA
REFRESH-INTERVAL;VALUE=DURATION:PT1H
X-Robots-Tag:noindex
X-PUBLISHED-TTL:PT1H
BEGIN:VTIMEZONE
TZID:UTC
BEGIN:STANDARD
TZOFFSETFROM:+0000
TZOFFSETTO:+0000
TZNAME:UTC
DTSTART:20220101T000000
END:STANDARD
END:VTIMEZONE
BEGIN:VEVENT
DTSTART;VALUE=DATE:20220511
DTEND;VALUE=DATE:20220512
DTSTAMP:20260423T003131
CREATED:20220407T123345Z
LAST-MODIFIED:20220407T123345Z
UID:2176-1652227200-1652313599@www.fgasa.co.za
SUMMARY:SKS DG Shoot
DESCRIPTION:For further information please email \ncolinpatrick.training@gmail.com
URL:https://www.fgasa.co.za/event/sks-dg-shoot
LOCATION:Moholoholo Mountain View
END:VEVENT
END:VCALENDAR